BEGIN:VCALENDAR
PRODID:-//github.com/rianjs/ical.net//NONSGML ical.net 4.0//EN
VERSION:2.0
BEGIN:VEVENT
DESCRIPTION:Az Andok termékeny völgyében fekvő Ibagué\, a város lakói és a
 z azt körülölelő természet a témája a fotókiállításának.
DTEND:20231119T220000Z
DTSTAMP:20260421T082954Z
DTSTART:20231106T160000Z
GEO:47.095283;17.905218
LOCATION:Foton Audiovizuális Centrum\n8200 Veszprém\, Vár utca 17
SEQUENCE:0
SUMMARY:InterUrbán: Ibagué - “A fény forrása” fotókiállítás (CO)
UID:87b4a566-c7c1-426a-a337-ddc86bd8f0c0
END:VEVENT
END:VCALENDAR
