BEGIN:VCALENDAR
PRODID:-//github.com/rianjs/ical.net//NONSGML ical.net 4.0//EN
VERSION:2.0
BEGIN:VEVENT
DESCRIPTION:DJ Guitto nem csak hangmintákat használ a kolumbiai őslakos kö
 zösségektől\, de ügyüket is képviseli\, kultúrájuk ősi üzenetét hordozza.
DTEND:20231117T210000Z
DTSTAMP:20260421T082555Z
DTSTART:20231117T190000Z
GEO:47.095283;17.905218
LOCATION:Foton Audiovizuális Centrum\n8200 Veszprém\, Vár utca 17
SEQUENCE:0
SUMMARY:InterUrbán: Ibagué - DJ Guitto koncert (CO)
UID:15820aab-0e13-4f54-9090-251d4b335d07
END:VEVENT
END:VCALENDAR
