BEGIN:VCALENDAR
PRODID:-//github.com/rianjs/ical.net//NONSGML ical.net 4.0//EN
VERSION:2.0
BEGIN:VEVENT
DESCRIPTION:Két női hang\, egy gitár és egy tiple teszi teljessé a Dueto L
 uar hangzását.
DTEND:20231110T190000Z
DTSTAMP:20260421T082911Z
DTSTART:20231110T180000Z
GEO:47.095283;17.905218
LOCATION:Foton Audiovizuális Centrum\n8200 Veszprém\, Vár utca 17
SEQUENCE:0
SUMMARY:InterUrbán: Ibagué - Dueto Luar - hagyományos latin zenei koncert 
 (CO)
UID:c08373a0-1b11-4930-96df-5f6150125548
END:VEVENT
END:VCALENDAR
