BEGIN:VCALENDAR
PRODID:-//github.com/rianjs/ical.net//NONSGML ical.net 4.0//EN
VERSION:2.0
BEGIN:VEVENT
DESCRIPTION:A Tiple embelmatikus hangszer a kolumbiai folkzenében\, bár er
 edete tisztázatlan: lehet a spanyol gitár távoli rokona\, esetleg a Kanár
 i szigeteki timplétől származik.
DTEND:20231110T170000Z
DTSTAMP:20260421T082555Z
DTSTART:20231110T160000Z
GEO:47.095283;17.905218
LOCATION:FOTON Audiovizuális Centrum\n8200 Veszprém\, Vár utca 17
SEQUENCE:0
SUMMARY:InterUrbán: Ibague - Dueto Luar - latin zenei workshop
UID:382e7dd7-d6f8-4178-a4f4-e5395925d285
END:VEVENT
END:VCALENDAR
