BEGIN:VCALENDAR
PRODID:-//github.com/rianjs/ical.net//NONSGML ical.net 4.0//EN
VERSION:2.0
BEGIN:VEVENT
DESCRIPTION:Az egyszerű\, de annál fontosabb Gaita vagy Kuisi egy fúvóshan
 gszer\, ami az indiánoktól származik\, és mára átszövi Kolumbia karibi pa
 rtvidékének zenéjét.
DTEND:20231114T180000Z
DTSTAMP:20260421T081947Z
DTSTART:20231114T170000Z
GEO:47.095283;17.905218
LOCATION:FOTON Audiovizuális Centrum\n8200 Veszprém\, Vár utca 17
SEQUENCE:0
SUMMARY:InterUrbán: Ibague - Gaitas készítő workshop
UID:d78c4f9c-8e3a-4dd8-a381-1e061dd2d20a
END:VEVENT
END:VCALENDAR
