BEGIN:VCALENDAR
PRODID:-//github.com/rianjs/ical.net//NONSGML ical.net 4.0//EN
VERSION:2.0
BEGIN:VEVENT
DESCRIPTION:Kultúrtörténet és örömzenélés egyben: az ütőhangszer workshopo
 n Edwin Cruz áttekintést ad a Karibi tenger partvidékének és az ország be
 lső területeinek népzenéjéről.
DTEND:20231116T180000Z
DTSTAMP:20260421T082812Z
DTSTART:20231116T170000Z
GEO:47.095283;17.905218
LOCATION:FOTON Audiovizuális Centrum\n8200 Veszprém\, Vár utca 17
SEQUENCE:0
SUMMARY:InterUrbán: Ibague - Kolumbiai népi ütőhangszerek workshop
UID:9fdd30ba-1ec1-424a-abc0-4784018381a6
END:VEVENT
END:VCALENDAR
