BEGIN:VCALENDAR
PRODID:-//github.com/rianjs/ical.net//NONSGML ical.net 4.0//EN
VERSION:2.0
BEGIN:VEVENT
DESCRIPTION:Két táncos megkísérli megmutatni egy hatalmas ország hagyomány
 ait\, és az eredmény szemet gyönyörködtető.
DTEND:20231111T200000Z
DTSTAMP:20260419T131715Z
DTSTART:20231111T190000Z
GEO:47.095283;17.905218
LOCATION:Foton Audiovizuális Centrum\n8200 Veszprém\, Vár utca 17
SEQUENCE:0
SUMMARY:InterUrbán: Ibagué - Kolumbiai néptánc (CO)
UID:0b008796-6b5f-42b8-b7e3-b48cf4b580af
END:VEVENT
END:VCALENDAR
