BEGIN:VCALENDAR
PRODID:-//github.com/rianjs/ical.net//NONSGML ical.net 4.0//EN
VERSION:2.0
BEGIN:VEVENT
DESCRIPTION:Jose Luis Riaño közvetíti a kolumbiai őslakosok: a Wayuu\, Emb
 era Eperara és Kogui törzsek ősi kultúrájának és jelenének üzenetét.
DTEND:20231115T180000Z
DTSTAMP:20260421T081841Z
DTSTART:20231115T170000Z
GEO:47.095283;17.905218
LOCATION:FOTON Audiovizuális Centrum\n8200 Veszprém\, Vár utca 17
SEQUENCE:0
SUMMARY:InterUrbán: Ibague - Történetek Kolumbia titkos tájairól
UID:7f9ff563-781b-4ef3-8f7b-8865a1043268
END:VEVENT
END:VCALENDAR
