BEGIN:VCALENDAR
PRODID:-//github.com/rianjs/ical.net//NONSGML ical.net 4.0//EN
VERSION:2.0
BEGIN:VEVENT
DESCRIPTION:Emberek\, városok\, tárgyak\, mind úgy fotózva\, hogy egy egés
 z filmet láss bele! A litván művész olyan mesterien kapja el a pillanatot
 \, hogy az ember akarva-akaratlanul hosszú percekig gondolkozik azon\, va
 jon mi fotó mögötti sztori.
DTEND:20230205T150000Z
DTSTAMP:20260419T230941Z
DTSTART:20230123T150000Z
GEO:47.093828;17.906815
LOCATION:Kunszt\n8200 Veszprém\, Óváros tér 1
SEQUENCE:0
SUMMARY:InterUrbán: Kaunas - With love from Kaunas fotókiállítás Remis Šče
 rbauskas (LT)
UID:9b290977-cb17-47a2-9e15-65f8aae9887e
END:VEVENT
END:VCALENDAR
