BEGIN:VCALENDAR
PRODID:-//github.com/rianjs/ical.net//NONSGML ical.net 4.0//EN
VERSION:2.0
BEGIN:VEVENT
DESCRIPTION:A Pannon Színitanoda hallgatóinak előadása az elidegenedésről\
 , az értelmetlen gyűlöletről
DTEND:20231028T140000Z
DTSTAMP:20260421T092406Z
DTSTART:20231028T130000Z
GEO:47.092075;17.909137
LOCATION:Hangvilla Multifunkcionális Közösségi Tér\n8200 Veszprém\, Bruszn
 yai Árpád utca 2
SEQUENCE:0
SUMMARY:IS THERE ANYBODY OUT THERE? - Madách 200 Gondolat Fesztivál
UID:eec2247e-2f4a-47a5-8ab5-33c105aef5aa
END:VEVENT
END:VCALENDAR
