BEGIN:VCALENDAR
PRODID:-//github.com/rianjs/ical.net//NONSGML ical.net 4.0//EN
VERSION:2.0
BEGIN:VEVENT
DESCRIPTION:Magyar thriller | Rendező: Holtai Gábor | Szereplők: Szervét T
 ibor\, Lovas Rozi\, Molnár Áron\, Gryllus Dorka | Fórum Hungary | 124 per
 c | 2025 | (16) | Teljes árú jegy: 2 550 Ft | Kedvezményes jegy: 2 150 Ft
  (6 éves korig\, diák\, nyugdíjas\; érvényes kedvezményre jogosító igazol
 vány bemutatása esetén)
DTEND:20260319T211500Z
DTSTAMP:20260421T095357Z
DTSTART:20260319T190000Z
GEO:47.095283;17.905218
LOCATION:FOTON Audiovizuális Centrum\n8200 Veszprém\, Vár utca 17
SEQUENCE:0
SUMMARY:ITT ÉRZEM MAGAM OTTHON - FOTON - 03.19.
UID:423c333e-507e-4510-816f-e139eab86c3c
END:VEVENT
END:VCALENDAR
