BEGIN:VCALENDAR
PRODID:-//github.com/rianjs/ical.net//NONSGML ical.net 4.0//EN
VERSION:2.0
BEGIN:VEVENT
DESCRIPTION:Jana Vebrova és Petr Tichy koncert / Tradicionális morva zenei
  alapokon nyugvó kortárs tangóharmonika-zene
DTEND:20231027T180000Z
DTSTAMP:20260421T092853Z
DTSTART:20231027T170000Z
GEO:47.098569;17.900630
LOCATION:Fricska Étteremlakás\n8200 Veszprém\, Miklós utca 10
SEQUENCE:0
SUMMARY:Jana Vebrova és Petr Tichy koncert-Madách Gondolat Fesztivál
UID:cf95fb7f-c1df-4fec-942c-cf50ac8ecae0
END:VEVENT
END:VCALENDAR
