BEGIN:VCALENDAR
PRODID:-//github.com/rianjs/ical.net//NONSGML ical.net 4.0//EN
VERSION:2.0
BEGIN:VEVENT
DESCRIPTION:Jankovics Marcell: Az ember tragédiája filmvetítés a FOTON Aud
 iovizuális Centrumban.
DTEND:20231028T204500Z
DTSTAMP:20260421T091930Z
DTSTART:20231028T180000Z
GEO:47.095283;17.905218
LOCATION:FOTON Audiovizuális Centrum\n8200 Veszprém\, Vár utca 17
SEQUENCE:0
SUMMARY:Jankovics Marcell: Az ember tragédiája
UID:d9f6c509-4442-469c-bcb8-a42df989aab3
END:VEVENT
END:VCALENDAR
