BEGIN:VCALENDAR
PRODID:-//github.com/rianjs/ical.net//NONSGML ical.net 4.0//EN
VERSION:2.0
BEGIN:VEVENT
DESCRIPTION:Hogyan tehetünk boldoggá egy hétfő estét? Csodás dívákkal és s
 zenzációs zenekaraikkal! Vokális jazz sorozatunk első szereplője a Nagy E
 mma Quintet!
DTEND:20230306T203000Z
DTSTAMP:20260420T084558Z
DTSTART:20230306T180000Z
GEO:47.092912;17.907966
LOCATION:Papírkutya\n8200 Veszprém\, Szabadság tér 9
SEQUENCE:0
SUMMARY:JazzDívák a Papírkutyában vol.1. NAGY EMMA QUINTET
UID:d19b0ecd-6c85-46d2-9e4a-be969f3317f4
END:VEVENT
END:VCALENDAR
