BEGIN:VCALENDAR
PRODID:-//github.com/rianjs/ical.net//NONSGML ical.net 4.0//EN
VERSION:2.0
BEGIN:VEVENT
DESCRIPTION:Hogyan tehetünk boldoggá egy hétfő estét? Csodás dívákkal és s
 zenzációs zenekaraikkal! Vokális jazz sorozatunk következő szereplője: Ha
 jdu Klára Quartet feat. Borbély Mihály!
DTEND:20230313T203000Z
DTSTAMP:20260420T084612Z
DTSTART:20230313T180000Z
GEO:47.092912;17.907966
LOCATION:Papírkutya\n8200 Veszprém\, Szabadság tér 9
SEQUENCE:0
SUMMARY:JazzDívák a Papírkutyában vol.2. HAJDU KLÁRA QUARTET feat. BORBÉLY
  MIHÁLY
UID:636d5c4b-7de9-4596-adc9-c1107926da0e
END:VEVENT
END:VCALENDAR
