BEGIN:VCALENDAR
PRODID:-//github.com/rianjs/ical.net//NONSGML ical.net 4.0//EN
VERSION:2.0
BEGIN:VEVENT
DESCRIPTION:8 alkalomból álló színházi előadássorozat várja a vonyarcvashe
 gyi vendégeket és itt élőket tavasztól őszig a 2023-as évben\, az Imre Sá
 ndor Szeretetszínház előadásaiból.
DTEND:20230712T190000Z
DTSTAMP:20260419T175711Z
DTSTART:20230712T170000Z
GEO:46.762486;17.313356
LOCATION:Művelődési Ház\n8314 Vonyarcvashegy\, Fő utca 64
SEQUENCE:0
SUMMARY:Jean-Paul Sartre: Temetetlen holtak - dráma
UID:da4ada27-0cc1-41a0-9d63-d8bcec33a7b5
END:VEVENT
END:VCALENDAR
