BEGIN:VCALENDAR
PRODID:-//github.com/rianjs/ical.net//NONSGML ical.net 4.0//EN
VERSION:2.0
BEGIN:VEVENT
DESCRIPTION:Magyar játékfilm | Rendező: Fliegauf Bence | Szereplők: Peer K
 risztián\, Major Erik\, Jakab Juli | Mozinet | 111 perc | (18) | Teljes á
 rú jegy: 2 550 Ft | Kedvezményes jegy: 2 150 Ft (6 éves korig\, diák\, ny
 ugdíjas\; érvényes kedvezményre jogosító igazolvány bemutatása esetén)
DTEND:20250913T200000Z
DTSTAMP:20260421T082757Z
DTSTART:20250913T180000Z
GEO:47.095283;17.905218
LOCATION:FOTON Audiovizuális Centrum\n8200 Veszprém\, Vár utca 17
SEQUENCE:0
SUMMARY:JIMMY JAGUÁR – FOTON - 09.13.
UID:ad48596d-5a73-40f6-b41d-5432d3f9272d
END:VEVENT
END:VCALENDAR
