BEGIN:VCALENDAR
PRODID:-//github.com/rianjs/ical.net//NONSGML ical.net 4.0//EN
VERSION:2.0
BEGIN:VEVENT
DESCRIPTION:Az Imre Sándor Szeretetszínház előasásában nézhetitek meg Törö
 k Szabolcs\, Babits Mihály műve alapján írt darabját.
DTEND:20230721T200000Z
DTSTAMP:20260419T174126Z
DTSTART:20230721T190000Z
GEO:46.761546;17.315413
LOCATION:Szent-Mihály domb\n8314 Vonyarcvashegy
SEQUENCE:0
SUMMARY:Jónás könyve - színdarab
UID:caeb8674-2e17-41d2-8903-38f46f12fb0b
END:VEVENT
END:VCALENDAR
