BEGIN:VCALENDAR
PRODID:-//github.com/rianjs/ical.net//NONSGML ical.net 4.0//EN
VERSION:2.0
BEGIN:VEVENT
DESCRIPTION:A Kabóca Bábszínház a Csalimese című magyar népmese bemutatójá
 val készül.
DTEND:20230122T230000Z
DTSTAMP:20260419T230435Z
DTSTART:20230122T100000Z
GEO:47.092075;17.909137
LOCATION:Hangvilla stúdióterem\n8200 Veszprém\, Brusznyai Árpád utca 2
SEQUENCE:0
SUMMARY:TELTHÁZ! Kabóca Bábszínház: Csalimese
UID:9404f3aa-81a8-441b-b833-0f46680f0894
END:VEVENT
END:VCALENDAR
