BEGIN:VCALENDAR
PRODID:-//github.com/rianjs/ical.net//NONSGML ical.net 4.0//EN
VERSION:2.0
BEGIN:VEVENT
DESCRIPTION:Készülj fel egy varázslatos szabadtéri filmvetítésre a Veszpré
 mi Vár lenyűgöző szomszédságában!
DTEND:20240620T220000Z
DTSTAMP:20260421T161656Z
DTSTART:20240620T160000Z
GEO:47.097428;17.906374
LOCATION: Historia Kert\n8200 Veszprém\, Remete utca 8
SEQUENCE:0
SUMMARY:Kertmozi a Historia Kertben!
UID:cda8bc41-19dc-42ab-8901-a8190d653638
END:VEVENT
END:VCALENDAR
