BEGIN:VCALENDAR
PRODID:-//github.com/rianjs/ical.net//NONSGML ical.net 4.0//EN
VERSION:2.0
BEGIN:VEVENT
DESCRIPTION:Beszélgetés az űrkutatás aktualitásairól - az űrkutatás aktuál
 is eredményei és kérdései napjainkban. - Szabó B. Eszter beszélgetése a P
 annon Csillagda munkatársaival.
DTEND:20231029T174500Z
DTSTAMP:20260421T092057Z
DTSTART:20231029T163000Z
GEO:47.095283;17.905218
LOCATION:FOTON Kávézó\n8200 Veszprém\, Vár utca 17
SEQUENCE:0
SUMMARY:Készülő B terv? - Madách 200 Gondolat Fesztivál
UID:9af2327a-b8cf-48d6-ab9f-2385ddc44ca9
END:VEVENT
END:VCALENDAR
