BEGIN:VCALENDAR
PRODID:-//github.com/rianjs/ical.net//NONSGML ical.net 4.0//EN
VERSION:2.0
BEGIN:VEVENT
DESCRIPTION:Növekedés vagy nemnövekedés? Fenntartható a fenntartható fejlő
 dés? - Beszélgetés Szathmáry Eörs evolúcióbiológussal\, Hideg Éva jövőkut
 atóval\, Gelencsér Andrással\, a Pannon Egyetem rektorával és Mészáros Zo
 ltán fesztiválszervezővel. Moderátor: Pogonyi Szabolcs filozófus\, a CEU 
 professzora
DTEND:20231028T143000Z
DTSTAMP:20260421T092513Z
DTSTART:20231028T130000Z
GEO:47.092075;17.909137
LOCATION:Hangvilla - Konferenciaterem\n8200 Veszprém\, Brusznyai Árpád utc
 a 2
SEQUENCE:0
SUMMARY:Kezdetemben a vég? - Madách 200 Gondolat Fesztivál
UID:6564861a-d830-4bc5-b6aa-8ec000d4804e
END:VEVENT
END:VCALENDAR
