BEGIN:VCALENDAR
PRODID:-//github.com/rianjs/ical.net//NONSGML ical.net 4.0//EN
VERSION:2.0
BEGIN:VEVENT
DESCRIPTION:Beszélgetés a klímaszorongás jelenségéről Tari Annamária pszic
 hológussal és Gelencsér Andrással - a Pannon Egyetem rektorával -\, Tari 
 Annamária pszichológusal. Moderátor: Szabó B. Eszter
DTEND:20231025T183000Z
DTSTAMP:20260421T092442Z
DTSTART:20231025T171500Z
GEO:47.095283;17.905218
LOCATION:FOTON Audiovizuális Centrum\n8200 Veszprém\, Vár utca 17
SEQUENCE:0
SUMMARY:Kinek a klímája? - Madách 200 Gondolat Fesztivál
UID:8c86215f-4f13-41d1-a7d3-5d279f87c366
END:VEVENT
END:VCALENDAR
