BEGIN:VCALENDAR
PRODID:-//github.com/rianjs/ical.net//NONSGML ical.net 4.0//EN
VERSION:2.0
BEGIN:VEVENT
DESCRIPTION:A családi délelőttön a téli ünnepkör népszokásaihoz kapcsolódó
  játékokkal várják a Marcali Múzeum munkatársai és önkéntes segítőtársaik
  a látogatókat.
DTEND:20231125T110000Z
DTSTAMP:20260425T033405Z
DTSTART:20231125T090000Z
GEO:46.580689;17.411651
LOCATION:Marcali Múzeum\n8709 Marcali\, Múzeum köz 5
SEQUENCE:0
SUMMARY:"Kiskarácsony\, nagykarácsony" családi délelőtt Marcaliban
UID:c49fd265-5d72-487e-9567-f58e7ec0b829
END:VEVENT
END:VCALENDAR
