BEGIN:VCALENDAR
PRODID:-//github.com/rianjs/ical.net//NONSGML ical.net 4.0//EN
VERSION:2.0
BEGIN:VEVENT
DESCRIPTION:Mint a zene városa\, a klasszikus zenéről sem feledkezhetünk m
 eg a Ragyogj! nyitóeseményen\, így várunk a KUNSZT!-ban ahol a klasszikus
  dallamok mellett gasztro élmények is várnak!
DTEND:20230121T180000Z
DTSTAMP:20260419T230657Z
DTSTART:20230121T130000Z
GEO:47.093828;17.906815
LOCATION:KUNSZT!\n8200 Veszprém\, Óváros tér 1
SEQUENCE:0
SUMMARY:Klasszikus zenei koncertek a Kunszt!-ban
UID:0107b3ab-d0bf-4afe-b8ac-53344a6ce77a
END:VEVENT
END:VCALENDAR
