BEGIN:VCALENDAR
PRODID:-//github.com/rianjs/ical.net//NONSGML ical.net 4.0//EN
VERSION:2.0
BEGIN:VEVENT
DESCRIPTION:The Wilderness (SK) / Cista Ryza (SK) / Lyuhász Lyácint Bt / I
 ron Steel / Liquid Superchange (HR) / After: Quixotic Koncert - zenei ipa
 rosodás koncertek a Teremben
DTEND:20231027T220000Z
DTSTAMP:20260421T102907Z
DTSTART:20231028T170000Z
GEO:47.093108;17.906382
LOCATION:Terem Bár\n8200 Veszprém\, Virág Benedek utca 4
SEQUENCE:0
SUMMARY:Koncertek a Teremben - Madách 200 Gondolat Fesztivál
UID:41704332-87da-4c2e-86b5-318f79634144
END:VEVENT
END:VCALENDAR
