BEGIN:VCALENDAR
PRODID:-//github.com/rianjs/ical.net//NONSGML ical.net 4.0//EN
VERSION:2.0
BEGIN:VEVENT
DESCRIPTION:Kovács Gergely a fiatal zongoraművész generáció egyik legkieme
 lkedőbb egyénisége. Junior Príma – díjas\, Cziffra Tehetség – díjas\, 202
 1-ben a Los Angeles-i és a budapesti Liszt Ferenc Nemzetközi Zongoraverse
 nyek 3. díjasa\, illetve utóbbin Közönségdíjas.
DTEND:20231023T190000Z
DTSTAMP:20260420T084159Z
DTSTART:20231023T173000Z
GEO:47.092075;17.909137
LOCATION:Hangvilla Veszprém\n8200 Veszprém\, Brusznyai Árpád utca 2
SEQUENCE:0
SUMMARY:Kovács Gergely ünnepi koncertje
UID:9df0d2af-3b18-4189-a3f2-78176ad5de6f
END:VEVENT
END:VCALENDAR
