BEGIN:VCALENDAR
PRODID:-//github.com/rianjs/ical.net//NONSGML ical.net 4.0//EN
VERSION:2.0
BEGIN:VEVENT
DESCRIPTION:Somlai-Fischer Ádám és Bögöthy Ádám kísérletező jazzkoncertje
DTEND:20231029T190000Z
DTSTAMP:20260421T103058Z
DTSTART:20231029T180000Z
GEO:47.086204;17.908669
LOCATION:ActiCity Tánc – és Mozgásművészeti Központ\n8200 Veszprém\, Hóvir
 ág utca 1
SEQUENCE:0
SUMMARY:Középső félteke - Madách 200 Gondolat Fesztivál
UID:16ad97b0-9952-4606-a2b6-d95fa8c2398c
END:VEVENT
END:VCALENDAR
