BEGIN:VCALENDAR
PRODID:-//github.com/rianjs/ical.net//NONSGML ical.net 4.0//EN
VERSION:2.0
BEGIN:VEVENT
DESCRIPTION:A Kruder & Dorfmeister története nem csupán a visszautasítás t
 örténete. Amikor a kilencvenes évek elején elkezdtek együtt zenélni\, ali
 g volt valami\, amit ne csináltak volna “rosszul”\, és éppen ebből kifoly
 ólag pont jól.
DTEND:20230121T230000Z
DTSTAMP:20260419T231049Z
DTSTART:20230121T210000Z
GEO:47.094249;17.906207
LOCATION:Óváros tér - Elektronikus zenei nagyszínpad\n8200 Veszprém\, Óvár
 os tér
SEQUENCE:0
SUMMARY:Kruder & Dorfmeister a Ragyogj! nyitóeseményen
UID:aa0f20e5-a808-45cd-a7bd-c3996385752f
END:VEVENT
END:VCALENDAR
