BEGIN:VCALENDAR
PRODID:-//github.com/rianjs/ical.net//NONSGML ical.net 4.0//EN
VERSION:2.0
BEGIN:VEVENT
DESCRIPTION:Jaco van Dormael filmjének vetítése\n
DTEND:20231029T200000Z
DTSTAMP:20260421T092057Z
DTSTART:20231029T180000Z
GEO:47.095283;17.905218
LOCATION:FOTON Audiovizuális Centrum\n8200 Veszprém\, Vár utca 17
SEQUENCE:0
SUMMARY:Legújabb testamentum - Madách 200 Gondolat Fesztivál
UID:888a7271-24d1-42d3-a81c-faefed12e24c
END:VEVENT
END:VCALENDAR
