BEGIN:VCALENDAR
PRODID:-//github.com/rianjs/ical.net//NONSGML ical.net 4.0//EN
VERSION:2.0
BEGIN:VEVENT
DESCRIPTION:A Luigi Magni és Bernardino Zapponi világhírű filmje alapján V
 ajda Katalin írta a színdarabot\, melyet az Imre Sándor Szeretetszínház e
 lőadásásban nézhetünk meg.
DTEND:20230818T210000Z
DTSTAMP:20260419T175547Z
DTSTART:20230818T190000Z
GEO:46.754337;17.311248
LOCATION:Szabadtéri Színpad\n8314 Vonyarcvashegy\, Fürdő utca 1
SEQUENCE:0
SUMMARY:Legyetek jók\, ha tudtok - színdarab
UID:0cbff068-32f2-4a64-8a66-6f856cf43b7d
END:VEVENT
END:VCALENDAR
