BEGIN:VCALENDAR
PRODID:-//github.com/rianjs/ical.net//NONSGML ical.net 4.0//EN
VERSION:2.0
BEGIN:VEVENT
DESCRIPTION:A Luigi Magni és Bernardino Zapponi világhírű filmje alapján V
 ajda Katalin írta a színdarabot\, melyet az Imre Sándor Szeretetszínház e
 lőadásásban nézhetünk meg.
DTEND:20230818T190000Z
DTSTAMP:20260419T175524Z
DTSTART:20230910T170000Z
GEO:46.754337;17.311248
LOCATION:Szabadtéri Színpad\n8314 Vonyarcvashegy\, Fürdő utca 1
SEQUENCE:0
SUMMARY:Legyetek jók\, ha tudtok - színdarab (09.10)
UID:03e596e3-7465-4f94-823f-21b2d3098ab5
END:VEVENT
END:VCALENDAR
