BEGIN:VCALENDAR
PRODID:-//github.com/rianjs/ical.net//NONSGML ical.net 4.0//EN
VERSION:2.0
BEGIN:VEVENT
DESCRIPTION:Az odaLÖKött KÖLTészet csapatának slam poetry estje\n
DTEND:20231027T210000Z
DTSTAMP:20260421T092136Z
DTSTART:20231027T184500Z
GEO:47.095283;17.905218
LOCATION:FOTON Kávézó\n8200 Veszprém\, Vár utca 17
SEQUENCE:0
SUMMARY:Madách SLAM - Madách 200 Gondolat Fesztivál
UID:d8f73c44-5945-416f-840e-d9dfeed04fe1
END:VEVENT
END:VCALENDAR
