BEGIN:VCALENDAR
PRODID:-//github.com/rianjs/ical.net//NONSGML ical.net 4.0//EN
VERSION:2.0
BEGIN:VEVENT
DESCRIPTION:Lengyel-francia thriller\, filmdráma\, francia nyelven\, magya
 r felirattal | Rendező: Rebecca Zlotowski | Szereplők: Jodie Foster\, Dan
 iel Auteuil | Teljes árú jegy: 2 550 Ft | Kedvezményes jegy: 2 150 Ft (6 
 éves korig\, diák\, nyugdíjas\; érvényes kedvezményre jogosító igazolvány
  bemutatása esetén)
DTEND:20260426T175500Z
DTSTAMP:20260420T043054Z
DTSTART:20260426T160000Z
GEO:47.095283;17.905218
LOCATION:FOTON Audiovizuális Centrum\n8200 Veszprém\, Vár utca 17
SEQUENCE:0
SUMMARY:MAGÁN-ÜGY – FOTON - 04.26.
UID:904fe319-167d-47f1-be00-31ee628103fe
END:VEVENT
END:VCALENDAR
