BEGIN:VCALENDAR
PRODID:-//github.com/rianjs/ical.net//NONSGML ical.net 4.0//EN
VERSION:2.0
BEGIN:VEVENT
DESCRIPTION:Magyar játékfilm | Rendező: Tarr Béla | Szereplők: Koltai Róbe
 rt\, Pogány Judit\, Ambrus Kyrii | Cirko Film | 102 perc | 1982 | (16) | 
 Teljes árú jegy: 2 550 Ft | Kedvezményes jegy: 2 150 Ft (6 éves korig\, d
 iák\, nyugdíjas\; érvényes kedvezményre jogosító igazolvány bemutatása es
 etén)
DTEND:20260430T201000Z
DTSTAMP:20260420T060005Z
DTSTART:20260430T181500Z
GEO:47.095283;17.905218
LOCATION:FOTON Audiovizuális Centrum\n8200 Veszprém\, Vár utca 17
SEQUENCE:0
SUMMARY:MAGYAR FILM NAPJA - PANELKAPCSOLAT - FOTON - 04.30.
UID:7bed6972-5760-49c6-b850-1f136203cc56
END:VEVENT
END:VCALENDAR
