BEGIN:VCALENDAR
PRODID:-//github.com/rianjs/ical.net//NONSGML ical.net 4.0//EN
VERSION:2.0
BEGIN:VEVENT
DESCRIPTION:Csillagos ég\, kertmozi feeling\, Balaton\, frissítő\, jó idő\
 , filmpremierek! Talán így lehetne pár szóban leginkább körülírni a Magya
 r Mozgókép Fesztivált! Nem hiszed el? Járj utána júniusban!
DTEND;VALUE=DATE:20230609
DTSTAMP:20260421T115647Z
DTSTART;VALUE=DATE:20230606
SEQUENCE:0
SUMMARY:Magyar Mozgókép Fesztivál 2023
UID:11423c5e-1c60-46ef-9164-e95bdcf8f027
END:VEVENT
END:VCALENDAR
