BEGIN:VCALENDAR
PRODID:-//github.com/rianjs/ical.net//NONSGML ical.net 4.0//EN
VERSION:2.0
BEGIN:VEVENT
DESCRIPTION:\nMajális a Gyárkert Kultúrparkban!\nLátogassanak el május 1-j
 én a Gyárkert Kultúrparkba\, és töltsenek ott egy felejthetetlen napot!
DTEND:20250501T180000Z
DTSTAMP:20260420T084135Z
DTSTART:20250501T080000Z
GEO:47.094820;17.914539
LOCATION:Gyárkert Kultúrpark\n8200 Veszprém\, Jutasi út 3
SEQUENCE:0
SUMMARY:Majális Gyárkert 2025
UID:047ad15c-6d59-469c-8575-f84709217cb8
END:VEVENT
END:VCALENDAR
