BEGIN:VCALENDAR
PRODID:-//github.com/rianjs/ical.net//NONSGML ical.net 4.0//EN
VERSION:2.0
BEGIN:VEVENT
DESCRIPTION:A Veszprém Vármegyei Büntetés-végrehajtási Intézet fogvatartot
 tai által írt könyvek - Lélekemesék és Életmesék - bemutatója. \n\nModerá
 tor: Szabó B. Eszter
DTEND:20231025T164500Z
DTSTAMP:20260421T092611Z
DTSTART:20231025T153000Z
GEO:47.095283;17.905218
LOCATION:FOTON Audiovizuális Centrum\n8200 Veszprém\, Vár utca 17
SEQUENCE:0
SUMMARY:Mea culpa\, mea maxima culpa - Madách 200 Gondolat Fesztivál
UID:43615682-c22d-4416-9cc0-61927b67d366
END:VEVENT
END:VCALENDAR
