BEGIN:VCALENDAR
PRODID:-//github.com/rianjs/ical.net//NONSGML ical.net 4.0//EN
VERSION:2.0
BEGIN:VEVENT
DESCRIPTION:Beszélgetés Boldog Ádám csillagásszal és Krausz Ivett pszichol
 ógussal tudományokról\, áltudományokról\, exobolygókutatásról és horoszkó
 pkészítésről\n
DTEND:20231027T163000Z
DTSTAMP:20260421T092611Z
DTSTART:20231027T150000Z
GEO:47.095283;17.905218
LOCATION:FOTON Kávézó\n8200 Veszprém\, Vár utca 17
SEQUENCE:0
SUMMARY:Meg van írva a csillagokban? - Madách 200 Gondolat Fesztivál
UID:d9af715f-0104-4a59-806d-18f35ac23661
END:VEVENT
END:VCALENDAR
