BEGIN:VCALENDAR
PRODID:-//github.com/rianjs/ical.net//NONSGML ical.net 4.0//EN
VERSION:2.0
BEGIN:VEVENT
DESCRIPTION:A legalább 100 éves múlttal rendelkező műfaj különlegessége\, 
 hogy sokszínű és sokrétű\, művelői a komoly- és könnyűzenében is otthonos
 an mozognak. Egy bárzongorista repertoárja minden műfajra\, stílusra kite
 rjed: operett\, opera\, musical\, retró és mai magyar sláger\, filmzene\,
  francia chanson\, nemzetköz
DTEND:20230122T000000Z
DTSTAMP:20260419T230629Z
DTSTART:20230121T130000Z
GEO:47.091571;17.907952
LOCATION:Veszprém\, Megyeház tér\n8200 Veszprém\, Megyeház tér
SEQUENCE:0
SUMMARY:Bárzongoristák színtere
UID:1eeb6e0c-c8b3-4c9e-a6a1-e1a4a7299d02
END:VEVENT
END:VCALENDAR
