BEGIN:VCALENDAR
PRODID:-//github.com/rianjs/ical.net//NONSGML ical.net 4.0//EN
VERSION:2.0
BEGIN:VEVENT
DESCRIPTION:Az amatőr zenélni vágyókat legnagyobb arányban ma is a kórusmo
 zgalom fogadja be világszerte. Városunk és a régió komoly hagyományokkal 
 büszkélkedhet e téren\, de példát szeretnénk mutatni a jövő generációinak
  is.
DTEND:20230121T180000Z
DTSTAMP:20260419T230408Z
DTSTART:20230121T130000Z
GEO:47.094249;17.906207
LOCATION:Városháza előtti tér\n8200 Veszprém\, Óváros tér
SEQUENCE:0
SUMMARY:Énekkarok színtere
UID:cafad4c7-7c73-48a5-9d1e-1c71ba43152a
END:VEVENT
END:VCALENDAR
