BEGIN:VCALENDAR
PRODID:-//github.com/rianjs/ical.net//NONSGML ical.net 4.0//EN
VERSION:2.0
BEGIN:VEVENT
DESCRIPTION:Hogyan lehet egyszerre többféle és különböző kultúrákból hangs
 zert megszólaltani egyszemélyben? A litván zenész megmutatja improvizáció
 s koncertjén!
DTEND:20230121T211500Z
DTSTAMP:20260419T230910Z
DTSTART:20230121T200000Z
GEO:47.093158;17.909305
LOCATION:EKF Kossuth utcai iroda\n8200 Veszprém\, Kossuth Lajos utca 3
SEQUENCE:0
SUMMARY:Megnyitó: InterUrbán: Kaunas - Daumantas Lukosiunas improvizációs 
 koncert (LT)
UID:12ff19e0-b965-4333-bfb3-2999abce61f5
END:VEVENT
END:VCALENDAR
