BEGIN:VCALENDAR
PRODID:-//github.com/rianjs/ical.net//NONSGML ical.net 4.0//EN
VERSION:2.0
BEGIN:VEVENT
DESCRIPTION:A veszprémi Little Moon dalszerzői estek bemutatkozási lehetős
 éget nyújtanak tehetséges\, de még kevéssé ismert művészeknek\, emellett 
 pedig találkozási pontként szolgálnak a helyi zenei élet résztvevői számá
 ra.
DTSTAMP:20260419T230435Z
DTSTART;VALUE=DATE:20230120
GEO:47.092818;17.908819
LOCATION:EKF Iroda - Kirakat\n8200 Veszprém\, Kossuth Lajos utca 3
SEQUENCE:0
SUMMARY:EKF kirakat koncertek
UID:a654c74c-ebf4-428f-ad9c-1c398065fbf4
END:VEVENT
END:VCALENDAR
