BEGIN:VCALENDAR
PRODID:-//github.com/rianjs/ical.net//NONSGML ical.net 4.0//EN
VERSION:2.0
BEGIN:VEVENT
DESCRIPTION:A megnyitó produkciói után a fergeteges szórakozásé a főszerep
 : a Posta előtt indul a NECC PARTY\, ami a 90-es és a 2000-es évek csemeg
 éit hozza el a partizóknak.
DTEND:20230122T000000Z
DTSTAMP:20260419T230418Z
DTSTART:20230121T200000Z
GEO:47.093494;17.912382
LOCATION:Posta előtti tér\n8200 Veszprém\, Kossuth Lajos utca 19
SEQUENCE:0
SUMMARY:NECC PARTY a Ragyogj! nyitóeseményen
UID:f87f4907-d416-4c44-9156-1b9b2a303ef5
END:VEVENT
END:VCALENDAR
