BEGIN:VCALENDAR
PRODID:-//github.com/rianjs/ical.net//NONSGML ical.net 4.0//EN
VERSION:2.0
BEGIN:VEVENT
DESCRIPTION:A zenekarok repertoárjában az otthonról hozott népzenén túlmen
 ően a Kárpát-medence magyarságának és más nemzetiségeinek népdalai és tán
 cmuzsikái is szerepelnek.
DTEND:20230121T180000Z
DTSTAMP:20260419T230607Z
DTSTART:20230121T130000Z
GEO:47.093368;17.913131
LOCATION:Veszprém\, Szent Imre tér\n8200 Veszprém\, Szent Imre tér
SEQUENCE:0
SUMMARY:Népzenészek és néptáncosok színtere
UID:13763226-9d23-4292-b06f-f308dc47ef66
END:VEVENT
END:VCALENDAR
