BEGIN:VCALENDAR
PRODID:-//github.com/rianjs/ical.net//NONSGML ical.net 4.0//EN
VERSION:2.0
BEGIN:VEVENT
DESCRIPTION:Az Óváros téren nyitóműsorunk után elektronikus zenével vezetj
 ük le az estét\, amely során a méltán híres Kruder & Dorfmeister bécsi sz
 ékhelyű DJ-duó produkcióját az Európa Kulturális Fővárosa 2023 címet vise
 lő másik két várost képviselő DJ-k\, K-lu (Temesvár) és Ad:Mark (Elefszín
 a) műsora egészíti ki
DTEND:20230122T000000Z
DTSTAMP:20260419T230815Z
DTSTART:20230121T200000Z
GEO:47.094249;17.906207
LOCATION:Óváros tér\n8200 Veszprém\, Óváros tér
SEQUENCE:0
SUMMARY:Elektronikus zenei nagyszínpad a Ragyogj! nyitóeseményen
UID:58be2ec8-83c5-40cf-b49b-c058227106f7
END:VEVENT
END:VCALENDAR
