BEGIN:VCALENDAR
PRODID:-//github.com/rianjs/ical.net//NONSGML ical.net 4.0//EN
VERSION:2.0
BEGIN:VEVENT
DESCRIPTION:Papírkutya Kultúrbisztró már évek óta az élőzene elkötelezett 
 híve\, különösen nagy rajongója a jazz zenének\, így ezen a neves napon e
 gy késői reggelihez vagy korai ebédhez is biztosítani szeretné meghívott 
 zenészeivel az ünnepi hangulatot. Reggelizzünk\, ebédeljünk\, vacsorázzun
 k hát jazzre!
DTEND:20230121T180000Z
DTSTAMP:20260419T230408Z
DTSTART:20230121T130000Z
GEO:47.092912;17.907966
LOCATION:Papírkutya\n8200 Veszprém\, Szabadság tér 9
SEQUENCE:0
SUMMARY:Papírkutya koncertek
UID:fdabbd18-596d-4773-bcb7-9d76945a9fe1
END:VEVENT
END:VCALENDAR
