BEGIN:VCALENDAR
PRODID:-//github.com/rianjs/ical.net//NONSGML ical.net 4.0//EN
VERSION:2.0
BEGIN:VEVENT
DTSTAMP:20260419T230722Z
DTSTART;VALUE=DATE:20230120
GEO:47.091867;17.907041
LOCATION:Veszprémi Petőfi Színház\n8200 Veszprém\, Óvári Ferenc út 2
SEQUENCE:0
SUMMARY:Veszprémi Petőfi Színház – Ragyogj! programok
UID:a1389487-53c7-48ad-9c81-e97ece9c258a
END:VEVENT
END:VCALENDAR
