BEGIN:VCALENDAR
PRODID:-//github.com/rianjs/ical.net//NONSGML ical.net 4.0//EN
VERSION:2.0
BEGIN:VEVENT
DESCRIPTION:Somlai-Fischer Ádám építész\, a Prezi alapítója\, Tari Annamár
 ia pszichológus\, Szauder Dávid AI-művész és Can Togay filmrendező\, forg
 atókönyvíró\, költő beszélgetése a mesterséges intelligenciáról. Moderáto
 r: András Ferenc filozófus
DTEND:20231028T163000Z
DTSTAMP:20260421T103041Z
DTSTART:20231028T150000Z
GEO:47.092075;17.909137
LOCATION:Hangvilla - Konferenciaterem\n8200 Veszprém\, Brusznyai Árpád utc
 a 2
SEQUENCE:0
SUMMARY:Mesterségem: Intelligencia - Madách 200 Gondolat Fesztivál
UID:a1ddd44d-b78f-4c51-9760-75edf3c3f9ed
END:VEVENT
END:VCALENDAR
