BEGIN:VCALENDAR
PRODID:-//github.com/rianjs/ical.net//NONSGML ical.net 4.0//EN
VERSION:2.0
BEGIN:VEVENT
DESCRIPTION:Építettünk egy koncerttermet\, a leghíresebbhez hasonlót\, aho
 l bemutatkozhatnak a muzikális lurkók: a Mini Carnegie Hall színpadán a V
 eszprém-Bakony-Balaton régió zeneiskoláinak egy-egy tehetséges növendéke 
 ad koncertet!
DTEND:20231011T163000Z
DTSTAMP:20260420T091036Z
DTSTART:20231011T160000Z
GEO:47.093379;17.913227
LOCATION:Mini Carnegie Hall\n8200 Veszprém\, Szent Imre tér
SEQUENCE:0
SUMMARY:Mészáros Milán / Mini Carnegie Hall
UID:30e5fdfd-76a4-4ab6-9ec3-c4ccdca8c2a4
END:VEVENT
END:VCALENDAR
